BEGIN:VCALENDAR
VERSION:2.0
PRODID:-//Sarah Maria Sun - ECPv4.0.5//NONSGML v1.0//EN
CALSCALE:GREGORIAN
METHOD:PUBLISH
X-WR-CALNAME:Sarah Maria Sun
X-ORIGINAL-URL:http://sarahmariasun.de
X-WR-CALDESC:Events for Sarah Maria Sun
BEGIN:VEVENT
DTSTART;VALUE=DATE:20180913
DTEND;VALUE=DATE:20180913
DTSTAMP:20260422T171902
CREATED:20171117
LAST-MODIFIED:20171117
UID:2221-1536796800-1536883199@sarahmariasun.de
SUMMARY:New York\, Resonant Bodies Festival
DESCRIPTION:Solo-Performance: Works by Georges Aperghis\, Thierry Tidrow\, Mátyás Seiber\, Rebecca Saunders
URL:http://sarahmariasun.de/event/new-york-resonant-bodies-festival/
END:VEVENT
END:VCALENDAR