BEGIN:VCALENDAR
VERSION:2.0
PRODID:-//Sarah Maria Sun - ECPv4.0.5//NONSGML v1.0//EN
CALSCALE:GREGORIAN
METHOD:PUBLISH
X-WR-CALNAME:Sarah Maria Sun
X-ORIGINAL-URL:http://sarahmariasun.de
X-WR-CALDESC:Events for Sarah Maria Sun
BEGIN:VEVENT
DTSTART;VALUE=DATE:20160123
DTEND;VALUE=DATE:20160123
DTSTAMP:20260423T030135
CREATED:20151212
LAST-MODIFIED:20151212
UID:1381-1453507200-1453593599@sarahmariasun.de
SUMMARY:München\, Schwere Reiter
DESCRIPTION:Portraitkonzert Tom Sora: Wer sich nicht\, wird nicht (für Sopran und Percussion)\nViola (für Viola)\nPerfekte Kongruenz (Film mit Musik\, UA)\nSeelengröße (Gitarren-Duo)\nGruppenzwänge (Streichtrio)\nDarkness (Film mit Musik\, UA)\nWechselspiele (für Sopran und Spieluhr)\nHeavy Metall(E-Gitarre und Percussion\, UA)\nTom Sora\, Thomas Hastreiter\, Johannes Ölllinger\, Martin Steuber\, Streichtrio Coriolis\n
URL:http://sarahmariasun.de/event/munchen-schwere-reiter/
END:VEVENT
END:VCALENDAR