BEGIN:VCALENDAR
VERSION:2.0
PRODID:-//Sarah Maria Sun - ECPv4.0.5//NONSGML v1.0//EN
CALSCALE:GREGORIAN
METHOD:PUBLISH
X-WR-CALNAME:Sarah Maria Sun
X-ORIGINAL-URL:http://sarahmariasun.de
X-WR-CALDESC:Events for Sarah Maria Sun
BEGIN:VEVENT
DTSTART;VALUE=DATE:20180713
DTEND;VALUE=DATE:20180713
DTSTAMP:20260422T190251
CREATED:20171117
LAST-MODIFIED:20180518
UID:2220-1531440000-1531526399@sarahmariasun.de
SUMMARY:München\, Opernfestspiele
DESCRIPTION:Nikolaus Brass:  PREMIERE new opera DIE VORÜBERGEHENDEN\ndirector: Ludger Engels / conductor: Marie Jaquot 
URL:http://sarahmariasun.de/event/munchen-opernfestspiele-4/
END:VEVENT
END:VCALENDAR