BEGIN:VCALENDAR
VERSION:2.0
PRODID:-//Sarah Maria Sun - ECPv4.0.5//NONSGML v1.0//EN
CALSCALE:GREGORIAN
METHOD:PUBLISH
X-WR-CALNAME:Sarah Maria Sun
X-ORIGINAL-URL:http://sarahmariasun.de
X-WR-CALDESC:Events for Sarah Maria Sun
BEGIN:VEVENT
DTSTART;VALUE=DATE:20180716
DTEND;VALUE=DATE:20180716
DTSTAMP:20260422T221751
CREATED:20171117
LAST-MODIFIED:20180518
UID:2218-1531699200-1531785599@sarahmariasun.de
SUMMARY:München\, Opernfestspiele
DESCRIPTION:Nikolaus Brass: DIE VORÜBERGEHENDEN\ndirector: Ludger Engels / conductor: Marie Jaquot 
URL:http://sarahmariasun.de/event/munchen-opernfestspiele-2/
END:VEVENT
END:VCALENDAR