BEGIN:VCALENDAR
VERSION:2.0
PRODID:-//Sarah Maria Sun - ECPv4.0.5//NONSGML v1.0//EN
CALSCALE:GREGORIAN
METHOD:PUBLISH
X-WR-CALNAME:Sarah Maria Sun
X-ORIGINAL-URL:http://sarahmariasun.de
X-WR-CALDESC:Events for Sarah Maria Sun
BEGIN:VEVENT
DTSTART;VALUE=DATE:20160610
DTEND;VALUE=DATE:20160610
DTSTAMP:20260423T032310
CREATED:20160217
LAST-MODIFIED:20160608
UID:1651-1465516800-1465603199@sarahmariasun.de
SUMMARY:München\, Herkulessaal
DESCRIPTION:Claude Debussy: Clair de Lune\,  Prélude à l'après-midi d'un faune\, Trois Ballades de François Villon\, Chansons de France (arrangés pour l'orchestre par Heinz Holliger)\, Trois Poèmes de Mallarmé (arrangés pour l'orchestre par Heinz Holliger)\, Khamma (Légende dansée pour orchestere)Heinz Holliger: Dämmerlicht (soprano and orchestraSymphonieorchester des Bayrischen Rundfunks / conductor: Heinz Holliger / baritone: Christian Gerhaher / soprano: Sarah Maria Sun
URL:http://sarahmariasun.de/event/munchen-herkulessaal-2/
END:VEVENT
END:VCALENDAR