BEGIN:VCALENDAR
VERSION:2.0
PRODID:-//Sarah Maria Sun - ECPv4.0.5//NONSGML v1.0//EN
CALSCALE:GREGORIAN
METHOD:PUBLISH
X-WR-CALNAME:Sarah Maria Sun
X-ORIGINAL-URL:http://sarahmariasun.de
X-WR-CALDESC:Events for Sarah Maria Sun
BEGIN:VEVENT
DTSTART;VALUE=DATE:20190108
DTEND;VALUE=DATE:20190109
DTSTAMP:20260422T160034
CREATED:20181011
LAST-MODIFIED:20181206
UID:2601-1546905600-1547078399@sarahmariasun.de
SUMMARY:Köln\, Musikhochschule
DESCRIPTION:workshop NULLNULLEINS for composers
URL:http://sarahmariasun.de/event/koln-musikhochschule/
END:VEVENT
END:VCALENDAR