BEGIN:VCALENDAR
VERSION:2.0
PRODID:-//Sarah Maria Sun - ECPv4.0.5//NONSGML v1.0//EN
CALSCALE:GREGORIAN
METHOD:PUBLISH
X-WR-CALNAME:Sarah Maria Sun
X-ORIGINAL-URL:http://sarahmariasun.de
X-WR-CALDESC:Events for Sarah Maria Sun
BEGIN:VEVENT
DTSTART;VALUE=DATE:20151030
DTEND;VALUE=DATE:20151030
DTSTAMP:20260423T042741
CREATED:20151212
LAST-MODIFIED:20151212
UID:1371-1446163200-1446249599@sarahmariasun.de
SUMMARY:Kassel
DESCRIPTION:Arnold Schönberg: Streichquartett IIQuatuor Diotima
URL:http://sarahmariasun.de/event/kassel/
END:VEVENT
END:VCALENDAR