BEGIN:VCALENDAR
VERSION:2.0
PRODID:-//Sarah Maria Sun - ECPv4.0.5//NONSGML v1.0//EN
CALSCALE:GREGORIAN
METHOD:PUBLISH
X-WR-CALNAME:Sarah Maria Sun
X-ORIGINAL-URL:http://sarahmariasun.de
X-WR-CALDESC:Events for Sarah Maria Sun
BEGIN:VEVENT
DTSTART;VALUE=DATE:20171202
DTEND;VALUE=DATE:20171202
DTSTAMP:20260422T225307
CREATED:20170929
LAST-MODIFIED:20170929
UID:2185-1512172800-1512259199@sarahmariasun.de
SUMMARY:Karlsruhe\, ZKM
DESCRIPTION:Aleph Guitar QuartetBernhard Lang: Cold Trip I
URL:http://sarahmariasun.de/event/karlsruhe-zkm/
END:VEVENT
END:VCALENDAR