BEGIN:VCALENDAR
VERSION:2.0
PRODID:-//Sarah Maria Sun - ECPv4.0.5//NONSGML v1.0//EN
CALSCALE:GREGORIAN
METHOD:PUBLISH
X-WR-CALNAME:Sarah Maria Sun
X-ORIGINAL-URL:http://sarahmariasun.de
X-WR-CALDESC:Events for Sarah Maria Sun
BEGIN:VEVENT
DTSTART;VALUE=DATE:20190412
DTEND;VALUE=DATE:20190412
DTSTAMP:20260422T110046
CREATED:20180214
LAST-MODIFIED:20180502
UID:2371-1555027200-1555113599@sarahmariasun.de
SUMMARY:Innsbruck\, Congress
DESCRIPTION:Heinz Holliger: DÄMMERLICHT for soprano and orchestra / Gustav Mahler: SYMPHONIE IV for orchestra and soprano / with Symphonieorchester Innsbruck / Heinz Holliger\, conductor
URL:http://sarahmariasun.de/event/innsbruck-tiroler-landestheater-2/
END:VEVENT
END:VCALENDAR