BEGIN:VCALENDAR
VERSION:2.0
PRODID:-//Sarah Maria Sun - ECPv4.0.5//NONSGML v1.0//EN
CALSCALE:GREGORIAN
METHOD:PUBLISH
X-WR-CALNAME:Sarah Maria Sun
X-ORIGINAL-URL:http://sarahmariasun.de
X-WR-CALDESC:Events for Sarah Maria Sun
BEGIN:VEVENT
DTSTART;TZID="Europe/Berlin":20180413T193000
DTEND;TZID="Europe/Berlin":20180413T210000
DTSTAMP:20260422T225125
CREATED:20171117T173845
LAST-MODIFIED:20171219T080259
UID:2209-1523647800-1523653200@sarahmariasun.de
SUMMARY:Heidelberger Frühling\, Hebelhalle
DESCRIPTION:DICHTER_LIEBEN / Elena Langer: Landscape with three peoplemit Holger Falk
URL:http://sarahmariasun.de/event/heidelberger-fruhling-hebelhalle/
END:VEVENT
END:VCALENDAR