BEGIN:VCALENDAR
VERSION:2.0
PRODID:-//Sarah Maria Sun - ECPv4.0.5//NONSGML v1.0//EN
CALSCALE:GREGORIAN
METHOD:PUBLISH
X-WR-CALNAME:Sarah Maria Sun
X-ORIGINAL-URL:http://sarahmariasun.de
X-WR-CALDESC:Events for Sarah Maria Sun
BEGIN:VEVENT
DTSTART;TZID="Europe/Berlin":20180413T220000
DTEND;TZID="Europe/Berlin":20180413T230000
DTSTAMP:20260422T193810
CREATED:20171117T174022
LAST-MODIFIED:20171219T074823
UID:2210-1523656800-1523660400@sarahmariasun.de
SUMMARY:Heidelberger Frühling\, Hebelhalle
DESCRIPTION:Recital: modern lied / piano: Jan Philip Schulzeprogram: Helmut Lachenmann "Got Lost"\, Salvatore Sciarrino "Due Melodie"\, Heinz Holliger "Sechs Lieder nach Christian Morgenstern"\, Wolfgang Rihm "Ophelia Sings"\, Georges Aperghis "Le rire physidologique"\, UA Thierry Tidrow "Der Erdriese"
URL:http://sarahmariasun.de/event/heidelberger-fruhling-hebelhalle-2/
END:VEVENT
END:VCALENDAR