BEGIN:VCALENDAR
VERSION:2.0
PRODID:-//Sarah Maria Sun - ECPv4.0.5//NONSGML v1.0//EN
CALSCALE:GREGORIAN
METHOD:PUBLISH
X-WR-CALNAME:Sarah Maria Sun
X-ORIGINAL-URL:http://sarahmariasun.de
X-WR-CALDESC:Events for Sarah Maria Sun
BEGIN:VEVENT
DTSTART;VALUE=DATE:20171207
DTEND;VALUE=DATE:20171207
DTSTAMP:20260422T222443
CREATED:20171202
LAST-MODIFIED:20171202
UID:2284-1512604800-1512691199@sarahmariasun.de
SUMMARY:Hannover\, Hochschule für Theater\, Musik und Medien
DESCRIPTION:Liederfest Johannes Brahmsmit Sabine Ritterbusch\, Sopran / Gudrun Pelker\, Mezzosopran / Henryk Böhm\, Bariton  / Yajie Zhang\, Mezzosoran / Daniel Rudolph; Klavier / Justus Zeyen\, Klavier / Jan Philip Schulze\, Klavier / Gesangs- und Schauspiel-StudentInnen der Hochschule /  Mädchenchor HannoverLieder von Johannes Brahms\, Francis Poulenc\, Jennifer Walshe (Folksongs)  und Rebecca Saunders ("O")
URL:http://sarahmariasun.de/event/hannover-hochschule-fur-theater-musik-und-medien/
END:VEVENT
END:VCALENDAR