BEGIN:VCALENDAR
VERSION:2.0
PRODID:-//Sarah Maria Sun - ECPv4.0.5//NONSGML v1.0//EN
CALSCALE:GREGORIAN
METHOD:PUBLISH
X-WR-CALNAME:Sarah Maria Sun
X-ORIGINAL-URL:http://sarahmariasun.de
X-WR-CALDESC:Events for Sarah Maria Sun
BEGIN:VEVENT
DTSTART;VALUE=DATE:20160518
DTEND;VALUE=DATE:20160518
DTSTAMP:20260422T235304
CREATED:20160217
LAST-MODIFIED:20160217
UID:1649-1463529600-1463615999@sarahmariasun.de
SUMMARY:Hamburg\, Resonanzraum St Pauli
DESCRIPTION:Late Night: "YES" UA von Dieter Schnebel für Sopran\,  Percussion\, Elektronik und ZuspielbandText: James Joyce Sarah Maria Sun
URL:http://sarahmariasun.de/event/hamburg-resonanzraum-st-pauli-2/
END:VEVENT
END:VCALENDAR