BEGIN:VCALENDAR
VERSION:2.0
PRODID:-//Sarah Maria Sun - ECPv4.0.5//NONSGML v1.0//EN
CALSCALE:GREGORIAN
METHOD:PUBLISH
X-WR-CALNAME:Sarah Maria Sun
X-ORIGINAL-URL:http://sarahmariasun.de
X-WR-CALDESC:Events for Sarah Maria Sun
BEGIN:VEVENT
DTSTART;VALUE=DATE:20180828
DTEND;VALUE=DATE:20180902
DTSTAMP:20260422T191812
CREATED:20180214
LAST-MODIFIED:20180214
UID:2361-1535414400-1535932799@sarahmariasun.de
SUMMARY:Halberstadt: Masterclass and Competition
DESCRIPTION:One week Masterclass for Contemporary Vocal Music and as a final the John-Cage-Competition\, this year for Contemporary Vocal Music\nIf you want to participate please contact: Ute Schalz\, uschalz{at}web.de\n
URL:http://sarahmariasun.de/event/halberstadt-masterclass-and-competition/
END:VEVENT
END:VCALENDAR