BEGIN:VCALENDAR
VERSION:2.0
PRODID:-//Sarah Maria Sun - ECPv4.0.5//NONSGML v1.0//EN
CALSCALE:GREGORIAN
METHOD:PUBLISH
X-WR-CALNAME:Sarah Maria Sun
X-ORIGINAL-URL:http://sarahmariasun.de
X-WR-CALDESC:Events for Sarah Maria Sun
BEGIN:VEVENT
DTSTART;VALUE=DATE:20180831
DTEND;VALUE=DATE:20180831
DTSTAMP:20260422T160513
CREATED:20180214
LAST-MODIFIED:20180719
UID:2363-1535673600-1535759999@sarahmariasun.de
SUMMARY:Halberstadt\, Herrenhaus
DESCRIPTION:Symposion about Contemporary Vocal Music / with Christoph Ogiermann and Salome Kammer
URL:http://sarahmariasun.de/event/halberstadt-herrenhaus/
END:VEVENT
END:VCALENDAR