BEGIN:VCALENDAR
VERSION:2.0
PRODID:-//Sarah Maria Sun - ECPv4.0.5//NONSGML v1.0//EN
CALSCALE:GREGORIAN
METHOD:PUBLISH
X-WR-CALNAME:Sarah Maria Sun
X-ORIGINAL-URL:http://sarahmariasun.de
X-WR-CALDESC:Events for Sarah Maria Sun
BEGIN:VEVENT
DTSTART;VALUE=DATE:20181027
DTEND;VALUE=DATE:20181027
DTSTAMP:20260422T173532
CREATED:20180214
LAST-MODIFIED:20181011
UID:2367-1540598400-1540684799@sarahmariasun.de
SUMMARY:Guanajuato\, Cervantino Festival
DESCRIPTION:Dieter Schnebel: Yes I will Yes (monodrama for voice\, percussion\, electronics and video) / Mauro Lanza: Erba nera che cresci segno nero tu vivi (for voice and electronics) / Tania Rubio: H'ear through the wat'air b'earth  (for voice\, percussion and electronics) / with Johannes Fischer\, Percussion
URL:http://sarahmariasun.de/event/guanajuato-cervantino-festival/
END:VEVENT
END:VCALENDAR