BEGIN:VCALENDAR
VERSION:2.0
PRODID:-//Sarah Maria Sun - ECPv4.0.5//NONSGML v1.0//EN
CALSCALE:GREGORIAN
METHOD:PUBLISH
X-WR-CALNAME:Sarah Maria Sun
X-ORIGINAL-URL:http://sarahmariasun.de
X-WR-CALDESC:Events for Sarah Maria Sun
BEGIN:VEVENT
DTSTART;VALUE=DATE:20170714
DTEND;VALUE=DATE:20170714
DTSTAMP:20260423T013501
CREATED:20161104
LAST-MODIFIED:20161104
UID:1936-1499990400-1500076799@sarahmariasun.de
SUMMARY:Endingen\, Bürgerhaus
DESCRIPTION:KlarinettenKaleidoskop - Heimspiel 3 / Werke von Felix Mendelssohn Bartholdy\, Johannes Brahms\, Bèla Bartok\, Matyas Seiber\, Thierry Tidrow und Cornelius Schwehr / Kilian Herold (Klarinette) / Myriel Cantoreggi (Violine) / Sarah Maria Sun (Sopran) / Anton Hollich (Klarinette) / Hansjacob Staemmler (Klavier)
URL:http://sarahmariasun.de/event/endingen-burgerhaus/
END:VEVENT
END:VCALENDAR