BEGIN:VCALENDAR
VERSION:2.0
PRODID:-//Sarah Maria Sun - ECPv4.0.5//NONSGML v1.0//EN
CALSCALE:GREGORIAN
METHOD:PUBLISH
X-WR-CALNAME:Sarah Maria Sun
X-ORIGINAL-URL:http://sarahmariasun.de
X-WR-CALDESC:Events for Sarah Maria Sun
BEGIN:VEVENT
DTSTART;VALUE=DATE:20160129
DTEND;VALUE=DATE:20160129
DTSTAMP:20260423T012423
CREATED:20151212
LAST-MODIFIED:20151212
UID:1382-1454025600-1454111999@sarahmariasun.de
SUMMARY:Düsseldorf\, Tonhalle
DESCRIPTION:Claude Vivier: HiérophaniemusikFabrik\n
URL:http://sarahmariasun.de/event/dusseldorf-tonhalle/
END:VEVENT
END:VCALENDAR