BEGIN:VCALENDAR
VERSION:2.0
PRODID:-//Sarah Maria Sun - ECPv4.0.5//NONSGML v1.0//EN
CALSCALE:GREGORIAN
METHOD:PUBLISH
X-WR-CALNAME:Sarah Maria Sun
X-ORIGINAL-URL:http://sarahmariasun.de
X-WR-CALDESC:Events for Sarah Maria Sun
BEGIN:VEVENT
DTSTART;VALUE=DATE:20190504
DTEND;VALUE=DATE:20190504
DTSTAMP:20260422T110425
CREATED:20181011
LAST-MODIFIED:20181206
UID:2610-1556928000-1557014399@sarahmariasun.de
SUMMARY:Dresden\, Semper Zwei
DESCRIPTION:"4.48 PSYCHOSE" by Philip Venables / world premiere of the german version / Regie: Isabel Ostermann 
URL:http://sarahmariasun.de/event/dresden-semper-zwei-17/
END:VEVENT
END:VCALENDAR