BEGIN:VCALENDAR
VERSION:2.0
PRODID:-//Sarah Maria Sun - ECPv4.0.5//NONSGML v1.0//EN
CALSCALE:GREGORIAN
METHOD:PUBLISH
X-WR-CALNAME:Sarah Maria Sun
X-ORIGINAL-URL:http://sarahmariasun.de
X-WR-CALDESC:Events for Sarah Maria Sun
BEGIN:VEVENT
DTSTART;VALUE=DATE:20170603
DTEND;VALUE=DATE:20170603
DTSTAMP:20260423T000637
CREATED:20160608
LAST-MODIFIED:20170204
UID:1812-1496448000-1496534399@sarahmariasun.de
SUMMARY:Dresden\, Semper Zwei
DESCRIPTION:Lied-Recital "Stimmkunst" / masterpieces of contemporary Lied by Sciarrino\, Lachenmann\, Rihm\, Holliger / piano: Jan Philip Schulze
URL:http://sarahmariasun.de/event/dresden-semper-zwei-10/
END:VEVENT
END:VCALENDAR