BEGIN:VCALENDAR
VERSION:2.0
PRODID:-//Sarah Maria Sun - ECPv4.0.5//NONSGML v1.0//EN
CALSCALE:GREGORIAN
METHOD:PUBLISH
X-WR-CALNAME:Sarah Maria Sun
X-ORIGINAL-URL:http://sarahmariasun.de
X-WR-CALDESC:Events for Sarah Maria Sun
BEGIN:VEVENT
DTSTART;TZID="Europe/Berlin":20170624T200000
DTEND;TZID="Europe/Berlin":20170624T223000
DTSTAMP:20260423T013512
CREATED:20170301T103744
LAST-MODIFIED:20170301T103744
UID:2005-1498334400-1498343400@sarahmariasun.de
SUMMARY:Dresden\, Frauenkirche
DESCRIPTION:Jörg Herchet: Kantate zum Reformationstag / Leitung: Christfried Brödel / Meißner Kantorei 1961 / Solistenensemble vocal modern / Knabenchor Dresden / Orchester: Sinfonietta Dresden
URL:http://sarahmariasun.de/event/dresden-frauenkirche/
END:VEVENT
END:VCALENDAR