BEGIN:VCALENDAR
VERSION:2.0
PRODID:-//Sarah Maria Sun - ECPv4.0.5//NONSGML v1.0//EN
CALSCALE:GREGORIAN
METHOD:PUBLISH
X-WR-CALNAME:Sarah Maria Sun
X-ORIGINAL-URL:http://sarahmariasun.de
X-WR-CALDESC:Events for Sarah Maria Sun
BEGIN:VEVENT
DTSTART;TZID="Europe/Berlin":20171130T080000
DTEND;TZID="Europe/Berlin":20171130T170000
DTSTAMP:20260423T002511
CREATED:20171130T082247
LAST-MODIFIED:20171130T082247
UID:2004-1512028800-1512061200@sarahmariasun.de
SUMMARY:Dresden\, Frauenkirche
DESCRIPTION:Jörg Herchet: Reformations-Kantate
URL:http://sarahmariasun.de/event/dresden-frauenkirche-2/
END:VEVENT
END:VCALENDAR