BEGIN:VCALENDAR
VERSION:2.0
PRODID:-//Sarah Maria Sun - ECPv4.0.5//NONSGML v1.0//EN
CALSCALE:GREGORIAN
METHOD:PUBLISH
X-WR-CALNAME:Sarah Maria Sun
X-ORIGINAL-URL:http://sarahmariasun.de
X-WR-CALDESC:Events for Sarah Maria Sun
BEGIN:VEVENT
DTSTART;VALUE=DATE:20150906
DTEND;VALUE=DATE:20150906
DTSTAMP:20260423T042945
CREATED:20151212
LAST-MODIFIED:20151212
UID:1362-1441497600-1441583999@sarahmariasun.de
SUMMARY:Dortmund
DESCRIPTION:Dowland-RecitalFriedemann Wuttke\, Gitarre
URL:http://sarahmariasun.de/event/dortmund/
END:VEVENT
END:VCALENDAR