BEGIN:VCALENDAR
VERSION:2.0
PRODID:-//Sarah Maria Sun - ECPv4.0.5//NONSGML v1.0//EN
CALSCALE:GREGORIAN
METHOD:PUBLISH
X-WR-CALNAME:Sarah Maria Sun
X-ORIGINAL-URL:http://sarahmariasun.de
X-WR-CALDESC:Events for Sarah Maria Sun
BEGIN:VEVENT
DTSTART;VALUE=DATE:20160629
DTEND;VALUE=DATE:20160629
DTSTAMP:20260423T063157
CREATED:20160217
LAST-MODIFIED:20160608
UID:1652-1467158400-1467244799@sarahmariasun.de
SUMMARY:Cully
DESCRIPTION:Eliot Carter: Oboenquartett  - Claude Debussy: Troi Poèmes de Mallarmé (piano and soprano) - Heinz Holliger: Morgenstern-Lieder (piano and soprano) - Heinz Holliger: Increschantüm (string quartet and soprano)string quartet: Swiss Chamber Concerts / oboe: Heinz Holliger / conductor: Heinz Holliger
URL:http://sarahmariasun.de/event/cully/
END:VEVENT
END:VCALENDAR