BEGIN:VCALENDAR
VERSION:2.0
PRODID:-//Sarah Maria Sun - ECPv4.0.5//NONSGML v1.0//EN
CALSCALE:GREGORIAN
METHOD:PUBLISH
X-WR-CALNAME:Sarah Maria Sun
X-ORIGINAL-URL:http://sarahmariasun.de
X-WR-CALDESC:Events for Sarah Maria Sun
BEGIN:VEVENT
DTSTART;VALUE=DATE:20171108
DTEND;VALUE=DATE:20171108
DTSTAMP:20260423T015009
CREATED:20170204
LAST-MODIFIED:20171001
UID:2186-1510099200-1510185599@sarahmariasun.de
SUMMARY:Zagreb\, Opera house
DESCRIPTION:Philippe Manoury: music theatre "Kein Licht" / text: Elfriede Jelinek / director: Nicolas Stemann
URL:http://sarahmariasun.de/event/copy-of-zagreb-opera-house/
END:VEVENT
END:VCALENDAR