BEGIN:VCALENDAR
VERSION:2.0
PRODID:-//Sarah Maria Sun - ECPv4.0.5//NONSGML v1.0//EN
CALSCALE:GREGORIAN
METHOD:PUBLISH
X-WR-CALNAME:Sarah Maria Sun
X-ORIGINAL-URL:http://sarahmariasun.de
X-WR-CALDESC:Events for Sarah Maria Sun
BEGIN:VEVENT
DTSTART;VALUE=DATE:20160401
DTEND;VALUE=DATE:20160401
DTSTAMP:20260423T061235
CREATED:20160217
LAST-MODIFIED:20160217
UID:1643-1459468800-1459555199@sarahmariasun.de
SUMMARY:Bozen
DESCRIPTION:Whatever Works\nMusiktheater von Manuela Kerer\, Arturo Fuentes\nRegie: Michael Scheidl\, Austattung: Nora Scheidl\n
URL:http://sarahmariasun.de/event/bozen/
END:VEVENT
END:VCALENDAR