BEGIN:VCALENDAR
VERSION:2.0
PRODID:-//Sarah Maria Sun - ECPv4.0.5//NONSGML v1.0//EN
CALSCALE:GREGORIAN
METHOD:PUBLISH
X-WR-CALNAME:Sarah Maria Sun
X-ORIGINAL-URL:http://sarahmariasun.de
X-WR-CALDESC:Events for Sarah Maria Sun
BEGIN:VEVENT
DTSTART;VALUE=DATE:20180923
DTEND;VALUE=DATE:20180923
DTSTAMP:20260422T184456
CREATED:20180214
LAST-MODIFIED:20180502
UID:2366-1537660800-1537747199@sarahmariasun.de
SUMMARY:Berlin\, Kirche St. Elisabeth
DESCRIPTION:Georg Nussbaumer: world premiere OPERNWÜRFEL / with Ensemble Kaleidoskop / Festival BAM! 
URL:http://sarahmariasun.de/event/berlin-21/
END:VEVENT
END:VCALENDAR