BEGIN:VCALENDAR
VERSION:2.0
PRODID:-//Sarah Maria Sun - ECPv4.0.5//NONSGML v1.0//EN
CALSCALE:GREGORIAN
METHOD:PUBLISH
X-WR-CALNAME:Sarah Maria Sun
X-ORIGINAL-URL:http://sarahmariasun.de
X-WR-CALDESC:Events for Sarah Maria Sun
BEGIN:VEVENT
DTSTART;VALUE=DATE:20190331
DTEND;VALUE=DATE:20190331
DTSTAMP:20260422T141340
CREATED:20171117
LAST-MODIFIED:20181206
UID:2223-1553990400-1554076799@sarahmariasun.de
SUMMARY:Berlin\, Radialsystem
DESCRIPTION:Jannik Giger\, Leo Hoffmann\, Benjamin von Bebber: KOLIK VON RAINALD GOETZ/ \ntext: Rainald Goetz / coproduction with Gare du Nord\, Basel
URL:http://sarahmariasun.de/event/berlin-17/
END:VEVENT
END:VCALENDAR