BEGIN:VCALENDAR
VERSION:2.0
PRODID:-//Sarah Maria Sun - ECPv4.0.5//NONSGML v1.0//EN
CALSCALE:GREGORIAN
METHOD:PUBLISH
X-WR-CALNAME:Sarah Maria Sun
X-ORIGINAL-URL:http://sarahmariasun.de
X-WR-CALDESC:Events for Sarah Maria Sun
BEGIN:VEVENT
DTSTART;VALUE=DATE:20150616
DTEND;VALUE=DATE:20150616
DTSTAMP:20260423T061352
CREATED:20151212
LAST-MODIFIED:20151212
UID:1356-1434412800-1434499199@sarahmariasun.de
SUMMARY:Basel\, Opernhaus
DESCRIPTION:Peter Ruzicka: Hölderlin. Eine ExpeditionMusiktheater\nRegie:Vera Nemirova\nwww.theater-basel.ch\n
URL:http://sarahmariasun.de/event/basel-opernhaus-7/
END:VEVENT
END:VCALENDAR