BEGIN:VCALENDAR
VERSION:2.0
PRODID:-//Sarah Maria Sun - ECPv4.0.5//NONSGML v1.0//EN
CALSCALE:GREGORIAN
METHOD:PUBLISH
X-WR-CALNAME:Sarah Maria Sun
X-ORIGINAL-URL:http://sarahmariasun.de
X-WR-CALDESC:Events for Sarah Maria Sun
BEGIN:VEVENT
DTSTART;VALUE=DATE:20181018
DTEND;VALUE=DATE:20181018
DTSTAMP:20260422T142212
CREATED:20171117
LAST-MODIFIED:20180904
UID:2226-1539820800-1539907199@sarahmariasun.de
SUMMARY:Basel\, Gare du Nord
DESCRIPTION:Jannik Giger\, Leo Hofmann\, Benjamin van Bebber: "Kolik von Rainald Goetz" - UA Musiktheaterprojekt\nText: Rainald Goetz
URL:http://sarahmariasun.de/event/basel-gare-du-nord-2/
END:VEVENT
END:VCALENDAR