BEGIN:VCALENDAR
VERSION:2.0
PRODID:-//Sarah Maria Sun - ECPv4.0.5//NONSGML v1.0//EN
CALSCALE:GREGORIAN
METHOD:PUBLISH
X-WR-CALNAME:Sarah Maria Sun
X-ORIGINAL-URL:http://sarahmariasun.de
X-WR-CALDESC:Events for Sarah Maria Sun
BEGIN:VEVENT
DTSTART;VALUE=DATE:20180131
DTEND;VALUE=DATE:20180131
DTSTAMP:20260422T222905
CREATED:20170204
LAST-MODIFIED:20170204
UID:1995-1517356800-1517443199@sarahmariasun.de
SUMMARY:Amsterdam\, Muziekgebouw
DESCRIPTION:Signum Quartett / Jörg Widmann: String Quartet V and other pieces
URL:http://sarahmariasun.de/event/amsterdam-muziekgebouw-2/
END:VEVENT
END:VCALENDAR